BEGIN:VCALENDAR
VERSION:2.0
PRODID:-//3nity.com//3nity CMS//EN
BEGIN:VEVENT
SUMMARY:Friends and Family Sunday
UID:2026-07-18-1199147@kingdomlifefaithcenter.org
SEQUENCE:0
STATUS:CONFIRMED
DTSTART:20260426T113000
DTEND:20260426T133000
DTSTAMP:20161222T120000
LOCATION: Kingdom Life Faith Center, 43816 15th St. West, Lancaster, CA 93534
DESCRIPTION:
URL:http://kingdomlifefaithcenter.org
END:VEVENT
END:VCALENDAR
